BEGIN:VCALENDAR
VERSION:2.0
PRODID:-//Sportverein Prieros - ECPv6.15.20//NONSGML v1.0//EN
CALSCALE:GREGORIAN
METHOD:PUBLISH
X-WR-CALNAME:Sportverein Prieros
X-ORIGINAL-URL:https://www.sportverein-prieros.de
X-WR-CALDESC:Veranstaltungen für Sportverein Prieros
REFRESH-INTERVAL;VALUE=DURATION:PT1H
X-Robots-Tag:noindex
X-PUBLISHED-TTL:PT1H
BEGIN:VTIMEZONE
TZID:Europe/Berlin
BEGIN:DAYLIGHT
TZOFFSETFROM:+0100
TZOFFSETTO:+0200
TZNAME:CEST
DTSTART:20170326T010000
END:DAYLIGHT
BEGIN:STANDARD
TZOFFSETFROM:+0200
TZOFFSETTO:+0100
TZNAME:CET
DTSTART:20171029T010000
END:STANDARD
BEGIN:DAYLIGHT
TZOFFSETFROM:+0100
TZOFFSETTO:+0200
TZNAME:CEST
DTSTART:20180325T010000
END:DAYLIGHT
BEGIN:STANDARD
TZOFFSETFROM:+0200
TZOFFSETTO:+0100
TZNAME:CET
DTSTART:20181028T010000
END:STANDARD
BEGIN:DAYLIGHT
TZOFFSETFROM:+0100
TZOFFSETTO:+0200
TZNAME:CEST
DTSTART:20190331T010000
END:DAYLIGHT
BEGIN:STANDARD
TZOFFSETFROM:+0200
TZOFFSETTO:+0100
TZNAME:CET
DTSTART:20191027T010000
END:STANDARD
END:VTIMEZONE
BEGIN:VEVENT
DTSTART;TZID=Europe/Berlin:20181110T170000
DTEND;TZID=Europe/Berlin:20181110T200000
DTSTAMP:20260425T140404
CREATED:20180916T103547Z
LAST-MODIFIED:20180916T103547Z
UID:723-1541869200-1541880000@www.sportverein-prieros.de
SUMMARY:SG PKW - TSGL Schöneiche II
DESCRIPTION:
URL:https://www.sportverein-prieros.de/event/sg-pkw-tsgl-schoeneiche-ii/
LOCATION:OSZ Königs Wusterhausen\, Brückenstraße 40\, Königs Wusterhausen\, 15711\, Deutschland
CATEGORIES:1. Herren
END:VEVENT
END:VCALENDAR