BEGIN:VCALENDAR
VERSION:2.0
PRODID:-//Sportverein Prieros - ECPv6.15.20//NONSGML v1.0//EN
CALSCALE:GREGORIAN
METHOD:PUBLISH
X-ORIGINAL-URL:https://www.sportverein-prieros.de
X-WR-CALDESC:Veranstaltungen für Sportverein Prieros
REFRESH-INTERVAL;VALUE=DURATION:PT1H
X-Robots-Tag:noindex
X-PUBLISHED-TTL:PT1H
BEGIN:VTIMEZONE
TZID:Europe/Berlin
BEGIN:DAYLIGHT
TZOFFSETFROM:+0100
TZOFFSETTO:+0200
TZNAME:CEST
DTSTART:20180325T010000
END:DAYLIGHT
BEGIN:STANDARD
TZOFFSETFROM:+0200
TZOFFSETTO:+0100
TZNAME:CET
DTSTART:20181028T010000
END:STANDARD
BEGIN:DAYLIGHT
TZOFFSETFROM:+0100
TZOFFSETTO:+0200
TZNAME:CEST
DTSTART:20190331T010000
END:DAYLIGHT
BEGIN:STANDARD
TZOFFSETFROM:+0200
TZOFFSETTO:+0100
TZNAME:CET
DTSTART:20191027T010000
END:STANDARD
BEGIN:DAYLIGHT
TZOFFSETFROM:+0100
TZOFFSETTO:+0200
TZNAME:CEST
DTSTART:20200329T010000
END:DAYLIGHT
BEGIN:STANDARD
TZOFFSETFROM:+0200
TZOFFSETTO:+0100
TZNAME:CET
DTSTART:20201025T010000
END:STANDARD
END:VTIMEZONE
BEGIN:VEVENT
DTSTART;VALUE=DATE:20190310
DTEND;VALUE=DATE:20190311
DTSTAMP:20260425T140927
CREATED:20190215T100618Z
LAST-MODIFIED:20190215T100618Z
UID:2045-1552176000-1552262399@www.sportverein-prieros.de
SUMMARY:KL 7. Spieltag
DESCRIPTION:SV Prieros – Eichwalde
URL:https://www.sportverein-prieros.de/event/kl-7-spieltag/
CATEGORIES:3. Mannschaft
END:VEVENT
BEGIN:VEVENT
DTSTART;TZID=Europe/Berlin:20190310T100000
DTEND;TZID=Europe/Berlin:20190310T170000
DTSTAMP:20260425T140927
CREATED:20190108T114259Z
LAST-MODIFIED:20190108T114259Z
UID:1710-1552212000-1552237200@www.sportverein-prieros.de
SUMMARY:u12 3. Spieltag
DESCRIPTION:
URL:https://www.sportverein-prieros.de/event/u12-3-spieltag/
CATEGORIES:u12
END:VEVENT
END:VCALENDAR