BEGIN:VCALENDAR
VERSION:2.0
PRODID:-//Sportverein Prieros - ECPv6.15.20//NONSGML v1.0//EN
CALSCALE:GREGORIAN
METHOD:PUBLISH
X-ORIGINAL-URL:https://www.sportverein-prieros.de
X-WR-CALDESC:Veranstaltungen für Sportverein Prieros
REFRESH-INTERVAL;VALUE=DURATION:PT1H
X-Robots-Tag:noindex
X-PUBLISHED-TTL:PT1H
BEGIN:VTIMEZONE
TZID:Europe/Berlin
BEGIN:DAYLIGHT
TZOFFSETFROM:+0100
TZOFFSETTO:+0200
TZNAME:CEST
DTSTART:20180325T010000
END:DAYLIGHT
BEGIN:STANDARD
TZOFFSETFROM:+0200
TZOFFSETTO:+0100
TZNAME:CET
DTSTART:20181028T010000
END:STANDARD
BEGIN:DAYLIGHT
TZOFFSETFROM:+0100
TZOFFSETTO:+0200
TZNAME:CEST
DTSTART:20190331T010000
END:DAYLIGHT
BEGIN:STANDARD
TZOFFSETFROM:+0200
TZOFFSETTO:+0100
TZNAME:CET
DTSTART:20191027T010000
END:STANDARD
BEGIN:DAYLIGHT
TZOFFSETFROM:+0100
TZOFFSETTO:+0200
TZNAME:CEST
DTSTART:20200329T010000
END:DAYLIGHT
BEGIN:STANDARD
TZOFFSETFROM:+0200
TZOFFSETTO:+0100
TZNAME:CET
DTSTART:20201025T010000
END:STANDARD
END:VTIMEZONE
BEGIN:VEVENT
DTSTART;TZID=Europe/Berlin:20190406T110000
DTEND;TZID=Europe/Berlin:20190406T170000
DTSTAMP:20260423T102010
CREATED:20180916T114452Z
LAST-MODIFIED:20180916T114452Z
UID:858-1554548400-1554570000@www.sportverein-prieros.de
SUMMARY:LLS 11. Spieltag
DESCRIPTION:SV Prieros II – Stahl Eisenhüttenstadt \nSV Prieros II – VC Wildau \nVC Wildau – Stahl Eisenhüttenstadt
URL:https://www.sportverein-prieros.de/event/lls-11-spieltag/
LOCATION:Oberschule Wildau\, Karl-Marx-Str. 108\, Wildau\, 15745
CATEGORIES:2. Herren
END:VEVENT
BEGIN:VEVENT
DTSTART;TZID=Europe/Berlin:20190406T180000
DTEND;TZID=Europe/Berlin:20190406T210000
DTSTAMP:20260423T102010
CREATED:20180916T110029Z
LAST-MODIFIED:20180916T110029Z
UID:788-1554573600-1554584400@www.sportverein-prieros.de
SUMMARY:SG PKW - USC Magdeburg
DESCRIPTION:
URL:https://www.sportverein-prieros.de/event/sg-pkw-usc-magdeburg/
LOCATION:OSZ Königs Wusterhausen\, Brückenstraße 40\, Königs Wusterhausen\, 15711\, Deutschland
CATEGORIES:1. Herren
END:VEVENT
END:VCALENDAR