BEGIN:VCALENDAR
VERSION:2.0
PRODID:-//Sportverein Prieros - ECPv6.15.20//NONSGML v1.0//EN
CALSCALE:GREGORIAN
METHOD:PUBLISH
X-WR-CALNAME:Sportverein Prieros
X-ORIGINAL-URL:https://www.sportverein-prieros.de
X-WR-CALDESC:Veranstaltungen für Sportverein Prieros
REFRESH-INTERVAL;VALUE=DURATION:PT1H
X-Robots-Tag:noindex
X-PUBLISHED-TTL:PT1H
BEGIN:VTIMEZONE
TZID:Europe/Berlin
BEGIN:DAYLIGHT
TZOFFSETFROM:+0100
TZOFFSETTO:+0200
TZNAME:CEST
DTSTART:20180325T010000
END:DAYLIGHT
BEGIN:STANDARD
TZOFFSETFROM:+0200
TZOFFSETTO:+0100
TZNAME:CET
DTSTART:20181028T010000
END:STANDARD
BEGIN:DAYLIGHT
TZOFFSETFROM:+0100
TZOFFSETTO:+0200
TZNAME:CEST
DTSTART:20190331T010000
END:DAYLIGHT
BEGIN:STANDARD
TZOFFSETFROM:+0200
TZOFFSETTO:+0100
TZNAME:CET
DTSTART:20191027T010000
END:STANDARD
BEGIN:DAYLIGHT
TZOFFSETFROM:+0100
TZOFFSETTO:+0200
TZNAME:CEST
DTSTART:20200329T010000
END:DAYLIGHT
BEGIN:STANDARD
TZOFFSETFROM:+0200
TZOFFSETTO:+0100
TZNAME:CET
DTSTART:20201025T010000
END:STANDARD
END:VTIMEZONE
BEGIN:VEVENT
DTSTART;TZID=Europe/Berlin:20191109T120000
DTEND;TZID=Europe/Berlin:20191109T140000
DTSTAMP:20260422T010111
CREATED:20190908T151028Z
LAST-MODIFIED:20190908T151028Z
UID:2255-1573300800-1573308000@www.sportverein-prieros.de
SUMMARY:LLS - 4. Spieltag
DESCRIPTION:Gegner: \nTSGL Schöneiche III
URL:https://www.sportverein-prieros.de/event/lls-4-spieltag-2/
LOCATION:Lehrer-Paul-Bester-Halle\, Dorfaue 17\, Schöneiche\, 15566
CATEGORIES:2. Herren
END:VEVENT
BEGIN:VEVENT
DTSTART;TZID=Europe/Berlin:20191109T180000
DTEND;TZID=Europe/Berlin:20191109T200000
DTSTAMP:20260422T010111
CREATED:20190623T131709Z
LAST-MODIFIED:20190623T131709Z
UID:2145-1573322400-1573329600@www.sportverein-prieros.de
SUMMARY:SG Rotation Prenzlauer Berg - SG PKW
DESCRIPTION:
URL:https://www.sportverein-prieros.de/event/sg-rotation-prenzlauer-berg-sg-pkw/
LOCATION:Doppelsporthalle Kulturbrauerei\, Sredzkistraße 6\, Berlin\, 10435
CATEGORIES:1. Herren
END:VEVENT
END:VCALENDAR