BEGIN:VCALENDAR
VERSION:2.0
PRODID:-//Sportverein Prieros - ECPv6.15.20//NONSGML v1.0//EN
CALSCALE:GREGORIAN
METHOD:PUBLISH
X-ORIGINAL-URL:https://www.sportverein-prieros.de
X-WR-CALDESC:Veranstaltungen für Sportverein Prieros
REFRESH-INTERVAL;VALUE=DURATION:PT1H
X-Robots-Tag:noindex
X-PUBLISHED-TTL:PT1H
BEGIN:VTIMEZONE
TZID:Europe/Berlin
BEGIN:DAYLIGHT
TZOFFSETFROM:+0100
TZOFFSETTO:+0200
TZNAME:CEST
DTSTART:20180325T010000
END:DAYLIGHT
BEGIN:STANDARD
TZOFFSETFROM:+0200
TZOFFSETTO:+0100
TZNAME:CET
DTSTART:20181028T010000
END:STANDARD
BEGIN:DAYLIGHT
TZOFFSETFROM:+0100
TZOFFSETTO:+0200
TZNAME:CEST
DTSTART:20190331T010000
END:DAYLIGHT
BEGIN:STANDARD
TZOFFSETFROM:+0200
TZOFFSETTO:+0100
TZNAME:CET
DTSTART:20191027T010000
END:STANDARD
BEGIN:DAYLIGHT
TZOFFSETFROM:+0100
TZOFFSETTO:+0200
TZNAME:CEST
DTSTART:20200329T010000
END:DAYLIGHT
BEGIN:STANDARD
TZOFFSETFROM:+0200
TZOFFSETTO:+0100
TZNAME:CET
DTSTART:20201025T010000
END:STANDARD
END:VTIMEZONE
BEGIN:VEVENT
DTSTART;TZID=Europe/Berlin:20191214T110000
DTEND;TZID=Europe/Berlin:20191214T180000
DTSTAMP:20260423T192701
CREATED:20190908T151219Z
LAST-MODIFIED:20190908T151219Z
UID:2262-1576321200-1576346400@www.sportverein-prieros.de
SUMMARY:LLS - 6. Spieltag
DESCRIPTION:Gegner: \nStahl Eisenhüttenstadt \nTSGL Schöneiche III
URL:https://www.sportverein-prieros.de/event/lls-6-spieltag-2/
LOCATION:Lehrer-Paul-Bester-Halle\, Dorfaue 17\, Schöneiche\, 15566
CATEGORIES:2. Herren
END:VEVENT
END:VCALENDAR