BEGIN:VCALENDAR
VERSION:2.0
PRODID:-//Sportverein Prieros - ECPv6.15.20//NONSGML v1.0//EN
CALSCALE:GREGORIAN
METHOD:PUBLISH
X-WR-CALNAME:Sportverein Prieros
X-ORIGINAL-URL:https://www.sportverein-prieros.de
X-WR-CALDESC:Veranstaltungen für Sportverein Prieros
REFRESH-INTERVAL;VALUE=DURATION:PT1H
X-Robots-Tag:noindex
X-PUBLISHED-TTL:PT1H
BEGIN:VTIMEZONE
TZID:Europe/Berlin
BEGIN:DAYLIGHT
TZOFFSETFROM:+0100
TZOFFSETTO:+0200
TZNAME:CEST
DTSTART:20170326T010000
END:DAYLIGHT
BEGIN:STANDARD
TZOFFSETFROM:+0200
TZOFFSETTO:+0100
TZNAME:CET
DTSTART:20171029T010000
END:STANDARD
BEGIN:DAYLIGHT
TZOFFSETFROM:+0100
TZOFFSETTO:+0200
TZNAME:CEST
DTSTART:20180325T010000
END:DAYLIGHT
BEGIN:STANDARD
TZOFFSETFROM:+0200
TZOFFSETTO:+0100
TZNAME:CET
DTSTART:20181028T010000
END:STANDARD
BEGIN:DAYLIGHT
TZOFFSETFROM:+0100
TZOFFSETTO:+0200
TZNAME:CEST
DTSTART:20190331T010000
END:DAYLIGHT
BEGIN:STANDARD
TZOFFSETFROM:+0200
TZOFFSETTO:+0100
TZNAME:CET
DTSTART:20191027T010000
END:STANDARD
END:VTIMEZONE
BEGIN:VEVENT
DTSTART;TZID=Europe/Berlin:20181006T150000
DTEND;TZID=Europe/Berlin:20181006T180000
DTSTAMP:20260425T141840
CREATED:20180916T102122Z
LAST-MODIFIED:20180916T102122Z
UID:702-1538838000-1538848800@www.sportverein-prieros.de
SUMMARY:CV Mitteldeutschland II - SG PKW
DESCRIPTION:
URL:https://www.sportverein-prieros.de/event/cv-mitteldeutschland-ii-sg-pkw/
LOCATION:Jahrhunderthalle Spergau\, Straße zur Linde 40\, Leuna\, 06237
CATEGORIES:1. Herren
END:VEVENT
BEGIN:VEVENT
DTSTART;TZID=Europe/Berlin:20181013T110000
DTEND;TZID=Europe/Berlin:20181013T180000
DTSTAMP:20260425T141840
CREATED:20180916T112036Z
LAST-MODIFIED:20180916T112259Z
UID:808-1539428400-1539453600@www.sportverein-prieros.de
SUMMARY:LLS 3. Spieltag
DESCRIPTION:SV Prieros II – Pneumant Fürstenwalde \nErkner/Schöneiche – Pneumant Fürstenwalde \nSV Prieros II – Erkner/Schöneiche
URL:https://www.sportverein-prieros.de/event/lls-3-spieltag/
LOCATION:Turnhalle Seestraße\, Seestr. 6\, Erkner\, 15537
CATEGORIES:2. Herren
END:VEVENT
BEGIN:VEVENT
DTSTART;TZID=Europe/Berlin:20181014T150000
DTEND;TZID=Europe/Berlin:20181014T180000
DTSTAMP:20260425T141840
CREATED:20180916T103101Z
LAST-MODIFIED:20180916T103101Z
UID:709-1539529200-1539540000@www.sportverein-prieros.de
SUMMARY:SG PKW - USV Halle
DESCRIPTION:
URL:https://www.sportverein-prieros.de/event/sg-pkw-usv-halle/
LOCATION:OSZ Königs Wusterhausen\, Brückenstraße 40\, Königs Wusterhausen\, 15711\, Deutschland
CATEGORIES:1. Herren
END:VEVENT
BEGIN:VEVENT
DTSTART;TZID=Europe/Berlin:20181021T150000
DTEND;TZID=Europe/Berlin:20181021T180000
DTSTAMP:20260425T141840
CREATED:20180916T103244Z
LAST-MODIFIED:20180916T103244Z
UID:712-1540134000-1540144800@www.sportverein-prieros.de
SUMMARY:Dessau Volleys - SG PKW
DESCRIPTION:
URL:https://www.sportverein-prieros.de/event/dessau-volleys-sg-pkw/
LOCATION:Friedensschule Dessau\, Elballee 87\, Dessau-Roßlau\, 06846
CATEGORIES:1. Herren
END:VEVENT
BEGIN:VEVENT
DTSTART;TZID=Europe/Berlin:20181028T150000
DTEND;TZID=Europe/Berlin:20181028T180000
DTSTAMP:20260425T141840
CREATED:20180916T103336Z
LAST-MODIFIED:20180916T103336Z
UID:716-1540738800-1540749600@www.sportverein-prieros.de
SUMMARY:SG PKW - USV Potsdam
DESCRIPTION:
URL:https://www.sportverein-prieros.de/event/sg-pkw-usv-potsdam/
LOCATION:OSZ Königs Wusterhausen\, Brückenstraße 40\, Königs Wusterhausen\, 15711\, Deutschland
CATEGORIES:1. Herren
END:VEVENT
END:VCALENDAR