BEGIN:VCALENDAR
VERSION:2.0
PRODID:-//Sportverein Prieros - ECPv6.15.20//NONSGML v1.0//EN
CALSCALE:GREGORIAN
METHOD:PUBLISH
X-ORIGINAL-URL:https://www.sportverein-prieros.de
X-WR-CALDESC:Veranstaltungen für Sportverein Prieros
REFRESH-INTERVAL;VALUE=DURATION:PT1H
X-Robots-Tag:noindex
X-PUBLISHED-TTL:PT1H
BEGIN:VTIMEZONE
TZID:Europe/Berlin
BEGIN:DAYLIGHT
TZOFFSETFROM:+0100
TZOFFSETTO:+0200
TZNAME:CEST
DTSTART:20170326T010000
END:DAYLIGHT
BEGIN:STANDARD
TZOFFSETFROM:+0200
TZOFFSETTO:+0100
TZNAME:CET
DTSTART:20171029T010000
END:STANDARD
BEGIN:DAYLIGHT
TZOFFSETFROM:+0100
TZOFFSETTO:+0200
TZNAME:CEST
DTSTART:20180325T010000
END:DAYLIGHT
BEGIN:STANDARD
TZOFFSETFROM:+0200
TZOFFSETTO:+0100
TZNAME:CET
DTSTART:20181028T010000
END:STANDARD
BEGIN:DAYLIGHT
TZOFFSETFROM:+0100
TZOFFSETTO:+0200
TZNAME:CEST
DTSTART:20190331T010000
END:DAYLIGHT
BEGIN:STANDARD
TZOFFSETFROM:+0200
TZOFFSETTO:+0100
TZNAME:CET
DTSTART:20191027T010000
END:STANDARD
END:VTIMEZONE
BEGIN:VEVENT
DTSTART;TZID=Europe/Berlin:20181103T180000
DTEND;TZID=Europe/Berlin:20181103T210000
DTSTAMP:20260425T122751
CREATED:20180916T103449Z
LAST-MODIFIED:20180916T111345Z
UID:719-1541268000-1541278800@www.sportverein-prieros.de
SUMMARY:Rotation Prenzlauer Berg - SG PKW
DESCRIPTION:
URL:https://www.sportverein-prieros.de/event/rotation-prenzlauer-berg-sg-pkw/
LOCATION:Doppelsporthalle Kulturbrauerei\, Sredzkistraße 6\, Berlin\, 10435
CATEGORIES:1. Herren
END:VEVENT
BEGIN:VEVENT
DTSTART;TZID=Europe/Berlin:20181110T170000
DTEND;TZID=Europe/Berlin:20181110T200000
DTSTAMP:20260425T122751
CREATED:20180916T103547Z
LAST-MODIFIED:20180916T103547Z
UID:723-1541869200-1541880000@www.sportverein-prieros.de
SUMMARY:SG PKW - TSGL Schöneiche II
DESCRIPTION:
URL:https://www.sportverein-prieros.de/event/sg-pkw-tsgl-schoeneiche-ii/
LOCATION:OSZ Königs Wusterhausen\, Brückenstraße 40\, Königs Wusterhausen\, 15711\, Deutschland
CATEGORIES:1. Herren
END:VEVENT
BEGIN:VEVENT
DTSTART;TZID=Europe/Berlin:20181117T110000
DTEND;TZID=Europe/Berlin:20181117T180000
DTSTAMP:20260425T122751
CREATED:20180916T112318Z
LAST-MODIFIED:20180916T112707Z
UID:818-1542452400-1542477600@www.sportverein-prieros.de
SUMMARY:LLS 4. Spieltag
DESCRIPTION:SV Prieros II – Elsterwerdaer SV \nTeltow/Kleinmachnow – Elsterwerdaer SV \nSV Prieros II – Teltow/Kleinmachnow
URL:https://www.sportverein-prieros.de/event/lls-4-spieltag/
LOCATION:Turnhalle Maxim-Gorki-Schule\, Förster-Funke-Allee 106\, Kleinmachnow\, 14532
CATEGORIES:2. Herren
END:VEVENT
BEGIN:VEVENT
DTSTART;TZID=Europe/Berlin:20181124T100000
DTEND;TZID=Europe/Berlin:20181124T170000
DTSTAMP:20260425T122751
CREATED:20180916T112919Z
LAST-MODIFIED:20180916T113312Z
UID:826-1543053600-1543078800@www.sportverein-prieros.de
SUMMARY:LLS 5. Spieltag
DESCRIPTION:Teltow/Kleinmachnow – VC Wildau \nSV Prieros II – VC Wildau \nSV Prieros II – Teltow/Kleinmachnow
URL:https://www.sportverein-prieros.de/event/lls-5-spieltag/
LOCATION:OSZ Königs Wusterhausen\, Brückenstraße 40\, Königs Wusterhausen\, 15711\, Deutschland
CATEGORIES:2. Herren
END:VEVENT
BEGIN:VEVENT
DTSTART;TZID=Europe/Berlin:20181124T170000
DTEND;TZID=Europe/Berlin:20181124T200000
DTSTAMP:20260425T122751
CREATED:20180916T103713Z
LAST-MODIFIED:20180916T103713Z
UID:726-1543078800-1543089600@www.sportverein-prieros.de
SUMMARY:SG PKW - SV Energie Cottbus
DESCRIPTION:
URL:https://www.sportverein-prieros.de/event/sg-pkw-sv-energie-cottbus/
LOCATION:OSZ Königs Wusterhausen\, Brückenstraße 40\, Königs Wusterhausen\, 15711\, Deutschland
CATEGORIES:1. Herren
END:VEVENT
END:VCALENDAR