BEGIN:VCALENDAR
VERSION:2.0
PRODID:-//Sportverein Prieros - ECPv6.15.20//NONSGML v1.0//EN
CALSCALE:GREGORIAN
METHOD:PUBLISH
X-ORIGINAL-URL:https://www.sportverein-prieros.de
X-WR-CALDESC:Veranstaltungen für Sportverein Prieros
REFRESH-INTERVAL;VALUE=DURATION:PT1H
X-Robots-Tag:noindex
X-PUBLISHED-TTL:PT1H
BEGIN:VTIMEZONE
TZID:Europe/Berlin
BEGIN:DAYLIGHT
TZOFFSETFROM:+0100
TZOFFSETTO:+0200
TZNAME:CEST
DTSTART:20170326T010000
END:DAYLIGHT
BEGIN:STANDARD
TZOFFSETFROM:+0200
TZOFFSETTO:+0100
TZNAME:CET
DTSTART:20171029T010000
END:STANDARD
BEGIN:DAYLIGHT
TZOFFSETFROM:+0100
TZOFFSETTO:+0200
TZNAME:CEST
DTSTART:20180325T010000
END:DAYLIGHT
BEGIN:STANDARD
TZOFFSETFROM:+0200
TZOFFSETTO:+0100
TZNAME:CET
DTSTART:20181028T010000
END:STANDARD
BEGIN:DAYLIGHT
TZOFFSETFROM:+0100
TZOFFSETTO:+0200
TZNAME:CEST
DTSTART:20190331T010000
END:DAYLIGHT
BEGIN:STANDARD
TZOFFSETFROM:+0200
TZOFFSETTO:+0100
TZNAME:CET
DTSTART:20191027T010000
END:STANDARD
END:VTIMEZONE
BEGIN:VEVENT
DTSTART;TZID=Europe/Berlin:20181201T110000
DTEND;TZID=Europe/Berlin:20181201T170000
DTSTAMP:20260423T192836
CREATED:20180916T113710Z
LAST-MODIFIED:20180916T113710Z
UID:833-1543662000-1543683600@www.sportverein-prieros.de
SUMMARY:LLS 6. Spieltag
DESCRIPTION:Erkner/Schöneiche – Stahl Eisenhüttenstadt \nSV Prieros II – Stahl Eisenhüttenstadt \nSV Prieros – Erkner/Schöneiche
URL:https://www.sportverein-prieros.de/event/lls-6-spieltag/
LOCATION:OSZ Königs Wusterhausen\, Brückenstraße 40\, Königs Wusterhausen\, 15711\, Deutschland
CATEGORIES:2. Herren
END:VEVENT
BEGIN:VEVENT
DTSTART;TZID=Europe/Berlin:20181202T150000
DTEND;TZID=Europe/Berlin:20181202T180000
DTSTAMP:20260423T192836
CREATED:20180916T103838Z
LAST-MODIFIED:20180916T103838Z
UID:729-1543762800-1543773600@www.sportverein-prieros.de
SUMMARY:SV Lindow-Gransee II - SG PKW
DESCRIPTION:
URL:https://www.sportverein-prieros.de/event/sv-lindow-gransee-ii-sg-pkw/
LOCATION:Dreifelderhalle Gransee\, Oranienburger Straße 36\, Gransee\, 16775
CATEGORIES:1. Herren
END:VEVENT
BEGIN:VEVENT
DTSTART;TZID=Europe/Berlin:20181215T160000
DTEND;TZID=Europe/Berlin:20181215T190000
DTSTAMP:20260423T192836
CREATED:20180916T104026Z
LAST-MODIFIED:20180916T104026Z
UID:737-1544889600-1544900400@www.sportverein-prieros.de
SUMMARY:MTV Mariendorf - SG PKW
DESCRIPTION:
URL:https://www.sportverein-prieros.de/event/mtv-mariendorf-sg-pkw/
LOCATION:Friedrich-Ebert-Sportanlage\, Bosestraße 21\, Berlin\, 12103
CATEGORIES:1. Herren
END:VEVENT
BEGIN:VEVENT
DTSTART;TZID=Europe/Berlin:20181215T170000
DTEND;TZID=Europe/Berlin:20181215T190000
DTSTAMP:20260423T192836
CREATED:20180910T230739Z
LAST-MODIFIED:20180910T230739Z
UID:623-1544893200-1544900400@www.sportverein-prieros.de
SUMMARY:Mitgliederversammlung
DESCRIPTION:
URL:https://www.sportverein-prieros.de/event/mitgliederversammlung/
CATEGORIES:Verein
END:VEVENT
BEGIN:VEVENT
DTSTART;TZID=Europe/Berlin:20181215T190000
DTEND;TZID=Europe/Berlin:20181216T030000
DTSTAMP:20260423T192836
CREATED:20180910T230815Z
LAST-MODIFIED:20180910T230815Z
UID:626-1544900400-1544929200@www.sportverein-prieros.de
SUMMARY:Vereinsweihnachtsfeier
DESCRIPTION:
URL:https://www.sportverein-prieros.de/event/vereinsweihnachtsfeier/
CATEGORIES:Verein
END:VEVENT
END:VCALENDAR