BEGIN:VCALENDAR
VERSION:2.0
PRODID:-//Sportverein Prieros - ECPv6.15.20//NONSGML v1.0//EN
CALSCALE:GREGORIAN
METHOD:PUBLISH
X-ORIGINAL-URL:https://www.sportverein-prieros.de
X-WR-CALDESC:Veranstaltungen für Sportverein Prieros
REFRESH-INTERVAL;VALUE=DURATION:PT1H
X-Robots-Tag:noindex
X-PUBLISHED-TTL:PT1H
BEGIN:VTIMEZONE
TZID:Europe/Berlin
BEGIN:DAYLIGHT
TZOFFSETFROM:+0100
TZOFFSETTO:+0200
TZNAME:CEST
DTSTART:20180325T010000
END:DAYLIGHT
BEGIN:STANDARD
TZOFFSETFROM:+0200
TZOFFSETTO:+0100
TZNAME:CET
DTSTART:20181028T010000
END:STANDARD
BEGIN:DAYLIGHT
TZOFFSETFROM:+0100
TZOFFSETTO:+0200
TZNAME:CEST
DTSTART:20190331T010000
END:DAYLIGHT
BEGIN:STANDARD
TZOFFSETFROM:+0200
TZOFFSETTO:+0100
TZNAME:CET
DTSTART:20191027T010000
END:STANDARD
BEGIN:DAYLIGHT
TZOFFSETFROM:+0100
TZOFFSETTO:+0200
TZNAME:CEST
DTSTART:20200329T010000
END:DAYLIGHT
BEGIN:STANDARD
TZOFFSETFROM:+0200
TZOFFSETTO:+0100
TZNAME:CET
DTSTART:20201025T010000
END:STANDARD
END:VTIMEZONE
BEGIN:VEVENT
DTSTART;TZID=Europe/Berlin:20190202T190000
DTEND;TZID=Europe/Berlin:20190202T220000
DTSTAMP:20260421T021122
CREATED:20180916T105221Z
LAST-MODIFIED:20180916T105221Z
UID:761-1549134000-1549144800@www.sportverein-prieros.de
SUMMARY:USV Potsdam - SG PKW
DESCRIPTION:
URL:https://www.sportverein-prieros.de/event/usv-potsdam-sg-pkw/
LOCATION:Humboldt Gymnasium Potsdam\, Heinrich-Mann-Allee 103\, Potsdam\, 14473
CATEGORIES:1. Herren
END:VEVENT
BEGIN:VEVENT
DTSTART;TZID=Europe/Berlin:20190216T150000
DTEND;TZID=Europe/Berlin:20190216T180000
DTSTAMP:20260421T021122
CREATED:20180916T105334Z
LAST-MODIFIED:20180916T105334Z
UID:766-1550329200-1550340000@www.sportverein-prieros.de
SUMMARY:SG PKW - Rotation Prenzlauer Berg
DESCRIPTION:
URL:https://www.sportverein-prieros.de/event/sg-pkw-rotation-prenzlauer-berg/
LOCATION:Landkost-Arena Bestensee\, Goethestraße 17\, Bestensee\, 15741
CATEGORIES:1. Herren
END:VEVENT
BEGIN:VEVENT
DTSTART;TZID=Europe/Berlin:20190217T090000
DTEND;TZID=Europe/Berlin:20190217T183000
DTSTAMP:20260421T021122
CREATED:20190215T100248Z
LAST-MODIFIED:20190215T100248Z
UID:2035-1550394000-1550428200@www.sportverein-prieros.de
SUMMARY:LLS Landespokal-Vorrunde
DESCRIPTION:09:00 Hallenöffnung \n09:15: Auslosung \n10:00: Spielbeginn \n  \nteilnehmende Teams: \n\nVC Blau/Weiß Brandenburg\nMSV Zossen 07\nSV Prieros II\nUSV Potsdam III\nNetzhoppers KW II\nSV Motor Hennigsdorf
URL:https://www.sportverein-prieros.de/event/lls-landespokal-vorrunde/
LOCATION:Dreifelderhalle Marienberg\, Willi-Sänger-Straße 77\, Brandenburg\, 14770
CATEGORIES:2. Herren
END:VEVENT
BEGIN:VEVENT
DTSTART;TZID=Europe/Berlin:20190217T100000
DTEND;TZID=Europe/Berlin:20190217T170000
DTSTAMP:20260421T021122
CREATED:20190108T114216Z
LAST-MODIFIED:20190108T114216Z
UID:1707-1550397600-1550422800@www.sportverein-prieros.de
SUMMARY:u12 2. Spieltag
DESCRIPTION:
URL:https://www.sportverein-prieros.de/event/u12-2-spieltag/
CATEGORIES:u12
END:VEVENT
BEGIN:VEVENT
DTSTART;VALUE=DATE:20190224
DTEND;VALUE=DATE:20190225
DTSTAMP:20260421T021122
CREATED:20190215T100552Z
LAST-MODIFIED:20190215T100552Z
UID:2042-1550966400-1551052799@www.sportverein-prieros.de
SUMMARY:KL 6. Spieltag
DESCRIPTION:SV Prieros – Bestensee \nSV Prieros – Schulzendorf
URL:https://www.sportverein-prieros.de/event/kl-6-spieltag/
CATEGORIES:3. Mannschaft
END:VEVENT
END:VCALENDAR