BEGIN:VCALENDAR
VERSION:2.0
PRODID:-//Sportverein Prieros - ECPv6.15.20//NONSGML v1.0//EN
CALSCALE:GREGORIAN
METHOD:PUBLISH
X-ORIGINAL-URL:https://www.sportverein-prieros.de
X-WR-CALDESC:Veranstaltungen für Sportverein Prieros
REFRESH-INTERVAL;VALUE=DURATION:PT1H
X-Robots-Tag:noindex
X-PUBLISHED-TTL:PT1H
BEGIN:VTIMEZONE
TZID:Europe/Berlin
BEGIN:DAYLIGHT
TZOFFSETFROM:+0100
TZOFFSETTO:+0200
TZNAME:CEST
DTSTART:20180325T010000
END:DAYLIGHT
BEGIN:STANDARD
TZOFFSETFROM:+0200
TZOFFSETTO:+0100
TZNAME:CET
DTSTART:20181028T010000
END:STANDARD
BEGIN:DAYLIGHT
TZOFFSETFROM:+0100
TZOFFSETTO:+0200
TZNAME:CEST
DTSTART:20190331T010000
END:DAYLIGHT
BEGIN:STANDARD
TZOFFSETFROM:+0200
TZOFFSETTO:+0100
TZNAME:CET
DTSTART:20191027T010000
END:STANDARD
BEGIN:DAYLIGHT
TZOFFSETFROM:+0100
TZOFFSETTO:+0200
TZNAME:CEST
DTSTART:20200329T010000
END:DAYLIGHT
BEGIN:STANDARD
TZOFFSETFROM:+0200
TZOFFSETTO:+0100
TZNAME:CET
DTSTART:20201025T010000
END:STANDARD
END:VTIMEZONE
BEGIN:VEVENT
DTSTART;TZID=Europe/Berlin:20190901T120000
DTEND;TZID=Europe/Berlin:20190901T170000
DTSTAMP:20260422T114117
CREATED:20190817T072651Z
LAST-MODIFIED:20190817T072651Z
UID:2223-1567339200-1567357200@www.sportverein-prieros.de
SUMMARY:Fischverkostung
DESCRIPTION:Anmeldung erforderlich\nEs können Familie und Freunde mitgebracht werden
URL:https://www.sportverein-prieros.de/event/fischverkostung/
LOCATION:Fischerei Aurora
CATEGORIES:Verein
END:VEVENT
BEGIN:VEVENT
DTSTART;TZID=Europe/Berlin:20190914T180000
DTEND;TZID=Europe/Berlin:20190914T200000
DTSTAMP:20260422T114117
CREATED:20190623T130932Z
LAST-MODIFIED:20190909T232643Z
UID:2122-1568484000-1568491200@www.sportverein-prieros.de
SUMMARY:SG PKW - VCO Berlin II
DESCRIPTION:## ACHTUNG ## \nAufgrund einer Baustelle in der Brückenstr.\, ist die Halle aktuell nicht mit dem Auto von der Brückenstr. zu erreichen. Ihr müsst dementsprechend in die Max-Werner-Str über die Kreuzung Schlossplatz/Gerichtsstr. reinfahren. Zusätzlich wäre es empfehlenswert den großen Parkplatz vor dem Jobcenter/Finanzamt zu verwenden\, da die Parkplätze vor der Halle etwas schwerer zu erreichen sind.
URL:https://www.sportverein-prieros.de/event/sg-pkw-vco-berlin-ii/
LOCATION:OSZ Königs Wusterhausen\, Brückenstraße 40\, Königs Wusterhausen\, 15711\, Deutschland
CATEGORIES:1. Herren
END:VEVENT
BEGIN:VEVENT
DTSTART;TZID=Europe/Berlin:20190921T170000
DTEND;TZID=Europe/Berlin:20190921T190000
DTSTAMP:20260422T114117
CREATED:20190623T131113Z
LAST-MODIFIED:20190917T124136Z
UID:2125-1569085200-1569092400@www.sportverein-prieros.de
SUMMARY:DJK Westen 23 - SG PKW
DESCRIPTION:Im Westen nichts Neues? \nNach dem erfolgreichen Saisonauftakt (3:1 gegen den VC Olympia Berlin II) steht für die SG PKW nun das erste Auswärtsspiel an. Gegner ist hierbei der DJK Westen Berlin I\, der seine erste Partie gegen die Lokalkonkurrenten vom SV Schulzendorf knapp verlor.
URL:https://www.sportverein-prieros.de/event/djk-westen-23-sg-pkw/
LOCATION:Sporthalle Wilhelm-Ostwald-Schule\, Immenweg 6\, Berlin\, 12169\, Deutschland
CATEGORIES:1. Herren
END:VEVENT
BEGIN:VEVENT
DTSTART;TZID=Europe/Berlin:20190928T100000
DTEND;TZID=Europe/Berlin:20190928T170000
DTSTAMP:20260422T114117
CREATED:20190908T150644Z
LAST-MODIFIED:20190908T150754Z
UID:2246-1569664800-1569690000@www.sportverein-prieros.de
SUMMARY:LLS - 2. Spieltag - HEIMSPIEL
DESCRIPTION:Gegner: \nPneumant Fürstenwalde \nStahl Eisenhüttenstadt
URL:https://www.sportverein-prieros.de/event/lls-2-spieltag-2/
LOCATION:OSZ Königs Wusterhausen\, Brückenstraße 40\, Königs Wusterhausen\, 15711\, Deutschland
CATEGORIES:2. Herren
END:VEVENT
BEGIN:VEVENT
DTSTART;TZID=Europe/Berlin:20190928T180000
DTEND;TZID=Europe/Berlin:20190928T200000
DTSTAMP:20260422T114117
CREATED:20190623T131158Z
LAST-MODIFIED:20190909T232706Z
UID:2129-1569693600-1569700800@www.sportverein-prieros.de
SUMMARY:SG PKW - MSV Zossen
DESCRIPTION:## ACHTUNG ## \nAufgrund einer Baustelle in der Brückenstr.\, ist die Halle aktuell nicht mit dem Auto von der Brückenstr. zu erreichen. Ihr müsst dementsprechend in die Max-Werner-Str über die Kreuzung Schlossplatz/Gerichtsstr. reinfahren. Zusätzlich wäre es empfehlenswert den großen Parkplatz vor dem Jobcenter/Finanzamt zu verwenden\, da die Parkplätze vor der Halle etwas schwerer zu erreichen sind.
URL:https://www.sportverein-prieros.de/event/sg-pkw-msv-zossen/
LOCATION:OSZ Königs Wusterhausen\, Brückenstraße 40\, Königs Wusterhausen\, 15711\, Deutschland
CATEGORIES:1. Herren
END:VEVENT
END:VCALENDAR