BEGIN:VCALENDAR
VERSION:2.0
PRODID:-//Sportverein Prieros - ECPv6.15.20//NONSGML v1.0//EN
CALSCALE:GREGORIAN
METHOD:PUBLISH
X-WR-CALNAME:Sportverein Prieros
X-ORIGINAL-URL:https://www.sportverein-prieros.de
X-WR-CALDESC:Veranstaltungen für Sportverein Prieros
REFRESH-INTERVAL;VALUE=DURATION:PT1H
X-Robots-Tag:noindex
X-PUBLISHED-TTL:PT1H
BEGIN:VTIMEZONE
TZID:Europe/Berlin
BEGIN:DAYLIGHT
TZOFFSETFROM:+0100
TZOFFSETTO:+0200
TZNAME:CEST
DTSTART:20190331T010000
END:DAYLIGHT
BEGIN:STANDARD
TZOFFSETFROM:+0200
TZOFFSETTO:+0100
TZNAME:CET
DTSTART:20191027T010000
END:STANDARD
BEGIN:DAYLIGHT
TZOFFSETFROM:+0100
TZOFFSETTO:+0200
TZNAME:CEST
DTSTART:20200329T010000
END:DAYLIGHT
BEGIN:STANDARD
TZOFFSETFROM:+0200
TZOFFSETTO:+0100
TZNAME:CET
DTSTART:20201025T010000
END:STANDARD
BEGIN:DAYLIGHT
TZOFFSETFROM:+0100
TZOFFSETTO:+0200
TZNAME:CEST
DTSTART:20210328T010000
END:DAYLIGHT
BEGIN:STANDARD
TZOFFSETFROM:+0200
TZOFFSETTO:+0100
TZNAME:CET
DTSTART:20211031T010000
END:STANDARD
END:VTIMEZONE
BEGIN:VEVENT
DTSTART;TZID=Europe/Berlin:20200111T110000
DTEND;TZID=Europe/Berlin:20200111T180000
DTSTAMP:20260420T185504
CREATED:20190908T151257Z
LAST-MODIFIED:20190908T151257Z
UID:2265-1578740400-1578765600@www.sportverein-prieros.de
SUMMARY:LLS - 7. Spieltag - HEIMSPIEL
DESCRIPTION:Gegner: \nGW Erkner \nCottbuser VV
URL:https://www.sportverein-prieros.de/event/lls-7-spieltag-heimspiel/
LOCATION:OSZ Königs Wusterhausen\, Brückenstraße 40\, Königs Wusterhausen\, 15711\, Deutschland
CATEGORIES:2. Herren
END:VEVENT
BEGIN:VEVENT
DTSTART;TZID=Europe/Berlin:20200112T150000
DTEND;TZID=Europe/Berlin:20200112T170000
DTSTAMP:20260420T185504
CREATED:20190623T132024Z
LAST-MODIFIED:20190623T132024Z
UID:2162-1578841200-1578848400@www.sportverein-prieros.de
SUMMARY:SG PKW - WSG Reform Magdeburg
DESCRIPTION:
URL:https://www.sportverein-prieros.de/event/sg-pkw-wsg-reform-magdeburg/
LOCATION:OSZ Königs Wusterhausen\, Brückenstraße 40\, Königs Wusterhausen\, 15711\, Deutschland
CATEGORIES:1. Herren
END:VEVENT
BEGIN:VEVENT
DTSTART;TZID=Europe/Berlin:20200118T110000
DTEND;TZID=Europe/Berlin:20200118T180000
DTSTAMP:20260420T185504
CREATED:20190908T151336Z
LAST-MODIFIED:20190908T151336Z
UID:2268-1579345200-1579370400@www.sportverein-prieros.de
SUMMARY:LLS - 8. Spieltag - HEIMSPIEL
DESCRIPTION:Gegner: \nHSG Senftenberg \nVC Teltow/Kleinmachnow
URL:https://www.sportverein-prieros.de/event/lls-8-spieltag-heimspiel/
LOCATION:OSZ Königs Wusterhausen\, Brückenstraße 40\, Königs Wusterhausen\, 15711\, Deutschland
CATEGORIES:2. Herren
END:VEVENT
BEGIN:VEVENT
DTSTART;TZID=Europe/Berlin:20200119T120000
DTEND;TZID=Europe/Berlin:20200119T140000
DTSTAMP:20260420T185504
CREATED:20200113T183113Z
LAST-MODIFIED:20200113T183113Z
UID:3858-1579435200-1579442400@www.sportverein-prieros.de
SUMMARY:Lauftreff
DESCRIPTION:weitere Informationen: https://www.sportverein-prieros.de/lauftreff/
URL:https://www.sportverein-prieros.de/event/lauftreff/
LOCATION:Prieros
CATEGORIES:Lauftreff
END:VEVENT
BEGIN:VEVENT
DTSTART;TZID=Europe/Berlin:20200119T150000
DTEND;TZID=Europe/Berlin:20200119T170000
DTSTAMP:20260420T185504
CREATED:20190623T132111Z
LAST-MODIFIED:20190623T132111Z
UID:2165-1579446000-1579453200@www.sportverein-prieros.de
SUMMARY:USC Magdeburg - SG PKW
DESCRIPTION:
URL:https://www.sportverein-prieros.de/event/usc-magdeburg-sg-pkw/
LOCATION:Uni-Sporthalle 3\, Johann-Gottlob-Nathusius-Ring\, Magdeburg\, 39106
CATEGORIES:1. Herren
END:VEVENT
BEGIN:VEVENT
DTSTART;TZID=Europe/Berlin:20200126T150000
DTEND;TZID=Europe/Berlin:20200126T170000
DTSTAMP:20260420T185504
CREATED:20190623T132144Z
LAST-MODIFIED:20190623T132144Z
UID:2169-1580050800-1580058000@www.sportverein-prieros.de
SUMMARY:SG PKW - USV Halle Volleys
DESCRIPTION:
URL:https://www.sportverein-prieros.de/event/sg-pkw-usv-halle-volleys/
LOCATION:OSZ Königs Wusterhausen\, Brückenstraße 40\, Königs Wusterhausen\, 15711\, Deutschland
CATEGORIES:1. Herren
END:VEVENT
END:VCALENDAR